BEGIN:VCALENDAR
VERSION:2.0
PRODID:gruene-rosenheim.de
METHOD:PUBLISH
BEGIN:VTIMEZONE
TZID:Europe/Berlin
X-LIC-LOCATION:Europe/Berlin
BEGIN:DAYLIGHT
TZOFFSETFROM:+0100
TZOFFSETTO:+0200
TZNAME:CEST
DTSTART:19700329T020000
RRULE:FREQ=YEARLY;INTERVAL=1;BYDAY=-1SU;BYMONTH=3
END:DAYLIGHT
BEGIN:STANDARD
TZOFFSETFROM:+0200
TZOFFSETTO:+0100
TZNAME:CET
DTSTART:19701025T030000
RRULE:FREQ=YEARLY;INTERVAL=1;BYDAY=-1SU;BYMONTH=10
END:STANDARD
END:VTIMEZONE
BEGIN:VEVENT
UID:5e7d9947570c5a7716ced6e2ddccbe69@gruene-rosenheim.de
URL;VALUE=URI:https://gruene-rosenheim.de/termine/sternfahrt-nach-muenche
 n/
LOCATION:Bahnhof Rosenheim, Ausgang Süd (Klepperstr.)
SUMMARY:Sternfahrt nach München
DESCRIPTION;ALTREP="data:text/html,%0A%3Cdiv%20class%3D%22wp-block-button
 s%20is-layout-flex%20wp-block-buttons-is-layout-flex%22%3E%0A%3Cdiv%20cla
 ss%3D%22wp-block-button%20has-custom-font-size%20has-small-font-size%22%2
 0id%3D%22https%3A%2F%2Fmuenchen.adfc.de%2Fsternfahrt%22%3E%3Ca%20class%3D
 %22wp-block-button__link%20wp-element-button%22%20href%3D%22https%3A%2F%2
 Fmuenchen.adfc.de%2Fsternfahrt%22%20style%3D%22border-radius%3A100px%22%2
 0rel%3D%22https%3A%2F%2Fmuenchen.adfc.de%2Fsternfahrt%22%3EMehr%20Infos%3
 C%2Fa%3E%3C%2Fdiv%3E%0A%3C%2Fdiv%3E%0A%0A%0A%0A%3Cp%3EWir%20fahren%20mit%
 20bei%20der%20Sternfahrt%20f%C3%BCr%20den%20Radentscheid%20Bayern.%20Wir%
 20starten%20um%209%3A15%20ab%20dem%20S%C3%BCdeingang%20des%20Rosenheimer%
 20Bahnhofs.%20Details%20zu%20den%20Routen%20und%20den%20verschiedenen%20S
 tartpunkten%20findet%20Ihr%20beim%20%3Ca%20href%3D%22https%3A%2F%2Fmuench
 en.adfc.de%2Fsternfahrt%22%3EADFC%3C%2Fa%3E.%3C%2Fp%3E%0A%0A%0A%0A%3Cfigu
 re%20class%3D%22wp-block-image%20size-full%22%3E%3Cimg%20src%3D%22https%3
 A%2F%2Fgruene-rosenheim.de%2Fwp-content%2Fuploads%2Fsites%2F63%2F2023%2F0
 4%2FSternfahrtrouten.jpg%22%20alt%3D%22%22%20class%3D%22wp-image-2019%22%
 20%2F%3E%3C%2Ffigure%3E%0A":Mehr Infos\n\nWir fahren mit bei der Sternfah
 rt für den Radentscheid Bayern. Wir starten um 9:15 ab dem Südeingang d
 es Rosenheimer Bahnhofs. Details zu den Routen und den verschiedenen Star
 tpunkten findet Ihr beim ADFC.
CLASS:PUBLIC
DTSTART;TZID=Europe/Berlin:20230423T091500
DTEND;TZID=Europe/Berlin:20230423T200000
DTSTAMP:20260420T064039
END:VEVENT
END:VCALENDAR