BEGIN:VCALENDAR
VERSION:2.0
PRODID:gruene-rosenheim.de
METHOD:PUBLISH
BEGIN:VTIMEZONE
TZID:Europe/Berlin
X-LIC-LOCATION:Europe/Berlin
BEGIN:DAYLIGHT
TZOFFSETFROM:+0100
TZOFFSETTO:+0200
TZNAME:CEST
DTSTART:19700329T020000
RRULE:FREQ=YEARLY;INTERVAL=1;BYDAY=-1SU;BYMONTH=3
END:DAYLIGHT
BEGIN:STANDARD
TZOFFSETFROM:+0200
TZOFFSETTO:+0100
TZNAME:CET
DTSTART:19701025T030000
RRULE:FREQ=YEARLY;INTERVAL=1;BYDAY=-1SU;BYMONTH=10
END:STANDARD
END:VTIMEZONE
BEGIN:VEVENT
UID:4af725503023a8753e02cb1b558b6bcf@gruene-rosenheim.de
URL;VALUE=URI:https://gruene-rosenheim.de/termine/stephanskirchen-infoabe
 nd-ov-erweiterung/
LOCATION:Spezerei, Simssestr. 190, Stephanskirchen-Scheiberloh
SUMMARY:Stephanskirchen: Infoabend OV-Erweiterung
DESCRIPTION;ALTREP="data:text/html,%0A%3Cp%3EInformiere%20Dich%20%C3%BCbe
 r%20eine%20m%C3%B6gliche%20Erweiterung%20des%20Ortsverbandes%20Stephanski
 rchen%20um%20die%20Orte%20Riedering%2C%20Thansau%20und%20Rohrdorf.%20%3C%
 2Fp%3E%0A":Informiere Dich über eine mögliche Erweiterung des Ortsverba
 ndes Stephanskirchen um die Orte Riedering\, Thansau und Rohrdorf.
CLASS:PUBLIC
DTSTART;TZID=Europe/Berlin:20240502T193000
DTEND;TZID=Europe/Berlin:20240502T220000
DTSTAMP:20260424T233341
END:VEVENT
END:VCALENDAR