BEGIN:VCALENDAR
VERSION:2.0
PRODID:gruene-rosenheim.de
METHOD:PUBLISH
BEGIN:VTIMEZONE
TZID:Europe/Berlin
X-LIC-LOCATION:Europe/Berlin
BEGIN:DAYLIGHT
TZOFFSETFROM:+0100
TZOFFSETTO:+0200
TZNAME:CEST
DTSTART:19700329T020000
RRULE:FREQ=YEARLY;INTERVAL=1;BYDAY=-1SU;BYMONTH=3
END:DAYLIGHT
BEGIN:STANDARD
TZOFFSETFROM:+0200
TZOFFSETTO:+0100
TZNAME:CET
DTSTART:19701025T030000
RRULE:FREQ=YEARLY;INTERVAL=1;BYDAY=-1SU;BYMONTH=10
END:STANDARD
END:VTIMEZONE
BEGIN:VEVENT
UID:e046b3fc5dac0c40c5dc2f2cb43a5d34@gruene-rosenheim.de
URL;VALUE=URI:https://gruene-rosenheim.de/termine/radltour-mit-leon-ecker
 t-mdb/
LOCATION:Bernau
SUMMARY:Radltour mit Leon Eckert (MdB)
DESCRIPTION;ALTREP="data:text/html,%0A%3Cp%3E%3Ca%20href%3D%22https%3A%2F
 %2Fleon-eckert.de%2F%22%20target%3D%22_blank%22%20rel%3D%22noreferrer%20n
 oopener%22%3ELeon%20Eckert%20%28MdB%29%3C%2Fa%3E%20kommt%20auf%20seiner%2
 0Radltour%20durch%20Bayern%20auch%20in%20den%20Landkreis%20Rosenheim.%20G
 emeinsam%20mit%20unserem%20Betreuungsabgeordneten%20%3Ca%20href%3D%22http
 s%3A%2F%2Fhome.karl-baer.eu%2F%22%20target%3D%22_blank%22%20rel%3D%22nore
 ferrer%20noopener%22%3EKarl%20B%C3%A4r%20%28MdB%29%3C%2Fa%3E%20wollen%20w
 ir%20%C3%BCber%20den%20A8-Ausbau%20diskutieren.%3C%2Fp%3E%0A%0A%0A%0A%3Cp
 %3E10%3A00%20Uhr%20Ankunft%20und%20Abfahrt%20mit%20dem%20Fahrrad%20zur%20
 A8-Aussicht%20am%20Bernauer%20Berg.%3C%2Fp%3E%0A%0A%0A%0A%3Cp%3E10%3A30%2
 0Uhr%20Ankunft%20vor%20Ort%20%28Fotos%20und%20Gespr%C3%A4che%20mit%20mitg
 efahrenen%20BI-Mitgliedern%29%3C%2Fp%3E%0A%0A%0A%0A%3Cp%3E11%3A00%20R%C3%
 BCckfahrt%20Bernau%3C%2Fp%3E%0A%0A%0A%0A%3Cp%3E11%3A30%20Uhr%20Ankunft%20
 Bernau%20und%20Mittagessen%20mit%20OV%20und%20KV-Vertreter%2Ainnen%20%28R
 estaurant%20Sportiv%2C%20Buchenstr.%2017%2C%20Bernau%29%3C%2Fp%3E%0A%0A%0
 A%0A%3Cp%3E13%3A00-14%3A30%20Gespr%C3%A4che%20mit%20den%20B%C3%BCrgermeis
 ter%2Ainnen%20und%20Vertreter%2Ainnen%20der%20BIs%3C%2Fp%3E%0A%0A%0A%0A%3
 Cp%3E15%3A00%20Verabschiedung%3C%2Fp%3E%0A":Leon Eckert (MdB) kommt auf s
 einer Radltour durch Bayern auch in den Landkreis Rosenheim. Gemeinsam mi
 t unserem Betreuungsabgeordneten Karl Bär (MdB) wollen wir über den A8-
 Ausbau diskutieren.\n\n10:00 Uhr Ankunft und Abfahrt mit dem Fahrrad zur 
 A8-Aussicht am Bernauer Berg.\n\n10:30 Uhr Ankunft vor Ort (Fotos und Ges
 präche mit mitgefahrenen BI-Mitgliedern)\n\n11:00 Rückfahrt Bernau\n\n1
 1:30 Uhr Ankunft Bernau und Mittagessen mit OV und KV-Vertreter*innen (Re
 staurant Sportiv\, Buchenstr. 17\, Bernau)\n\n13:00-14:30 Gespräche mit 
 den Bürgermeister*innen und Vertreter*innen der BIs\n\n15:00 Verabschied
 ung
CLASS:PUBLIC
DTSTART;TZID=Europe/Berlin:20240723T100000
DTEND;TZID=Europe/Berlin:20240723T150000
DTSTAMP:20260422T134714
END:VEVENT
END:VCALENDAR