BEGIN:VCALENDAR
VERSION:2.0
PRODID:gruene-rosenheim.de
METHOD:PUBLISH
BEGIN:VTIMEZONE
TZID:Europe/Berlin
X-LIC-LOCATION:Europe/Berlin
BEGIN:DAYLIGHT
TZOFFSETFROM:+0100
TZOFFSETTO:+0200
TZNAME:CEST
DTSTART:19700329T020000
RRULE:FREQ=YEARLY;INTERVAL=1;BYDAY=-1SU;BYMONTH=3
END:DAYLIGHT
BEGIN:STANDARD
TZOFFSETFROM:+0200
TZOFFSETTO:+0100
TZNAME:CET
DTSTART:19701025T030000
RRULE:FREQ=YEARLY;INTERVAL=1;BYDAY=-1SU;BYMONTH=10
END:STANDARD
END:VTIMEZONE
BEGIN:VEVENT
UID:bb9aafcae334378be8f195e0f3de4489@gruene-rosenheim.de
URL;VALUE=URI:https://gruene-rosenheim.de/termine/queer-cafe/
LOCATION:Grünes Büro, Papinstr. 1, Rosenheim
SUMMARY:Queer Café
DESCRIPTION;ALTREP="data:text/html,%0A%3Cp%3Ees%20ist%20wieder%20Queer%20
 Caf%C3%A9.%20Wir%20treffen%20uns%20allerdings%20zuk%C3%BCnftig%20am%20ers
 ten%20Freitag%20im%20Monat%20ab%2018%3A30%20Uhr%20im%20Gr%C3%BCnen%20B%C3
 %BCro%20%28Papinstra%C3%9Fe%201%2C%2083022%20Rosenheim%29.%20Das%20n%C3%A
 4chste%20Treffen%20findet%20also%20am%203.3%20statt.%3Cbr%3E%3Cbr%3EWie%2
 0immer%20bieten%20wir%20einen%20gesch%C3%BCtzten%20Raum%20zum%20Austausch
 %2C%20Ratschen%2C%20Lachen%20und%20neue%20Leute%20kennen%20lernen.%20Alle
 %20queeren%20Menschen%2C%20Freund%2Ainnen%20und%20Allys%20sind%20herzlich
 %20willkommen.%20Wir%20freuen%20uns%20auf%20euch.%3Cbr%3E%3Cbr%3E%3Cbr%3E
 %3C%2Fp%3E%0A":es ist wieder Queer Café. Wir treffen uns allerdings zuk
 ünftig am ersten Freitag im Monat ab 18:30 Uhr im Grünen Büro (Papinst
 raße 1\, 83022 Rosenheim). Das nächste Treffen findet also am 3.3 statt
 .Wie immer bieten wir einen geschützten Raum zum Austausch\, Ratschen\, 
 Lachen und neue Leute kennen lernen. Alle queeren Menschen\, Freund*innen
  und Allys sind herzlich willkommen. Wir freuen uns auf euch.
CLASS:PUBLIC
DTSTART;TZID=Europe/Berlin:20230303T183000
DTEND;TZID=Europe/Berlin:20230303T220000
DTSTAMP:20260419T193603
END:VEVENT
END:VCALENDAR