BEGIN:VCALENDAR
VERSION:2.0
PRODID:gruene-rosenheim.de
METHOD:PUBLISH
BEGIN:VTIMEZONE
TZID:Europe/Berlin
X-LIC-LOCATION:Europe/Berlin
BEGIN:DAYLIGHT
TZOFFSETFROM:+0100
TZOFFSETTO:+0200
TZNAME:CEST
DTSTART:19700329T020000
RRULE:FREQ=YEARLY;INTERVAL=1;BYDAY=-1SU;BYMONTH=3
END:DAYLIGHT
BEGIN:STANDARD
TZOFFSETFROM:+0200
TZOFFSETTO:+0100
TZNAME:CET
DTSTART:19701025T030000
RRULE:FREQ=YEARLY;INTERVAL=1;BYDAY=-1SU;BYMONTH=10
END:STANDARD
END:VTIMEZONE
BEGIN:VEVENT
UID:0f3997e548418ba56ff0928a21240893@gruene-rosenheim.de
URL;VALUE=URI:https://gruene-rosenheim.de/termine/ov-wasserburg-mit-dir-i
 m-gespraech-stammtisch/
LOCATION:Queens, Salzburger Str. 1, Wasserburg
SUMMARY:OV Wasserburg: Mit Dir im Gespräch – Stammtisch
DESCRIPTION;ALTREP="data:text/html,%0A%3Cp%3EDer%20Wasserburger%20Ortsver
 band%20trifft%20sich%20mit%20der%20Gr%C3%BCnen%20Jugend%20Rosenheim%20zu%
 20einem%20offenen%20Stammtisch.%20Interessierte%20sind%20herzlich%20willk
 ommen.%3C%2Fp%3E%0A":Der Wasserburger Ortsverband trifft sich mit der Gr
 ünen Jugend Rosenheim zu einem offenen Stammtisch. Interessierte sind he
 rzlich willkommen.
CLASS:PUBLIC
DTSTART;TZID=Europe/Berlin:20240221T193000
DTEND;TZID=Europe/Berlin:20240221T230000
DTSTAMP:20260424T054436
END:VEVENT
END:VCALENDAR