BEGIN:VCALENDAR
VERSION:2.0
PRODID:gruene-rosenheim.de
METHOD:PUBLISH
BEGIN:VTIMEZONE
TZID:Europe/Berlin
X-LIC-LOCATION:Europe/Berlin
BEGIN:DAYLIGHT
TZOFFSETFROM:+0100
TZOFFSETTO:+0200
TZNAME:CEST
DTSTART:19700329T020000
RRULE:FREQ=YEARLY;INTERVAL=1;BYDAY=-1SU;BYMONTH=3
END:DAYLIGHT
BEGIN:STANDARD
TZOFFSETFROM:+0200
TZOFFSETTO:+0100
TZNAME:CET
DTSTART:19701025T030000
RRULE:FREQ=YEARLY;INTERVAL=1;BYDAY=-1SU;BYMONTH=10
END:STANDARD
END:VTIMEZONE
BEGIN:VEVENT
UID:baac9bf9ab70041e7ce239e91adf522d@gruene-rosenheim.de
URL;VALUE=URI:https://gruene-rosenheim.de/termine/ov-prien-gruener-tisch/
LOCATION:Hotel Reinhard, Erlenweg 16, Prien am Chiemsee
SUMMARY:OV Prien: Grüner Tisch
DESCRIPTION;ALTREP="data:text/html,%0A%3Cp%3EOffenes%20Treffen%20der%20Pr
 iener%20Gr%C3%BCnen%20-%20eingeladen%20sind%20alle%20Freunde%20und%20Inte
 ressierten%3C%2Fp%3E%0A":Offenes Treffen der Priener Grünen - eingeladen
  sind alle Freunde und Interessierten
CLASS:PUBLIC
DTSTART;TZID=Europe/Berlin:20230206T190000
DTEND;TZID=Europe/Berlin:20230206T210000
DTSTAMP:20260420T123440
END:VEVENT
END:VCALENDAR