BEGIN:VCALENDAR
VERSION:2.0
PRODID:gruene-rosenheim.de
METHOD:PUBLISH
BEGIN:VTIMEZONE
TZID:Europe/Berlin
X-LIC-LOCATION:Europe/Berlin
BEGIN:DAYLIGHT
TZOFFSETFROM:+0100
TZOFFSETTO:+0200
TZNAME:CEST
DTSTART:19700329T020000
RRULE:FREQ=YEARLY;INTERVAL=1;BYDAY=-1SU;BYMONTH=3
END:DAYLIGHT
BEGIN:STANDARD
TZOFFSETFROM:+0200
TZOFFSETTO:+0100
TZNAME:CET
DTSTART:19701025T030000
RRULE:FREQ=YEARLY;INTERVAL=1;BYDAY=-1SU;BYMONTH=10
END:STANDARD
END:VTIMEZONE
BEGIN:VEVENT
UID:57847d690212fbc673837670abc55833@gruene-rosenheim.de
URL;VALUE=URI:https://gruene-rosenheim.de/termine/ov-feldkirchen-westerha
 m-offener-gruener-treff/
LOCATION:Schöne Aussicht, Schöne Aussicht 9, Kleinhöhenrain
SUMMARY:OV Feldkirchen-Westerham: Offener Grüner Treff
DESCRIPTION;ALTREP="data:text/html,%0A%3Cp%3EMonatlicher%20Treff%20der%20
 Feldkirchener%20Gr%C3%BCnen%20mit%20Infos%20aus%20dem%20Gemeinderat.%20Au
 ch%20Nicht-Parteimitglieder%20sind%20herzlich%20Willkommen.%3C%2Fp%3E%0A"
 :Monatlicher Treff der Feldkirchener Grünen mit Infos aus dem Gemeindera
 t. Auch Nicht-Parteimitglieder sind herzlich Willkommen.
CLASS:PUBLIC
DTSTART;TZID=Europe/Berlin:20240708T190000
DTEND;TZID=Europe/Berlin:20240708T220000
DTSTAMP:20260423T081132
END:VEVENT
END:VCALENDAR