BEGIN:VCALENDAR
VERSION:2.0
PRODID:gruene-rosenheim.de
METHOD:PUBLISH
BEGIN:VTIMEZONE
TZID:Europe/Berlin
X-LIC-LOCATION:Europe/Berlin
BEGIN:DAYLIGHT
TZOFFSETFROM:+0100
TZOFFSETTO:+0200
TZNAME:CEST
DTSTART:19700329T020000
RRULE:FREQ=YEARLY;INTERVAL=1;BYDAY=-1SU;BYMONTH=3
END:DAYLIGHT
BEGIN:STANDARD
TZOFFSETFROM:+0200
TZOFFSETTO:+0100
TZNAME:CET
DTSTART:19701025T030000
RRULE:FREQ=YEARLY;INTERVAL=1;BYDAY=-1SU;BYMONTH=10
END:STANDARD
END:VTIMEZONE
BEGIN:VEVENT
UID:87663052ee2becc6e4be0aa732fd7e88@gruene-rosenheim.de
URL;VALUE=URI:https://gruene-rosenheim.de/termine/mobilitaetswende-oepnv-
 bei-uns-auf-dem-land/
LOCATION:Schaupenwirt, Kiefersfelden
SUMMARY:Mobilitätswende – ÖPNV bei uns auf dem Land
DESCRIPTION;ALTREP="data:text/html,%0A%3Ch2%20class%3D%22wp-block-heading
 %22%3EStammtisch%20OV%20Kiefersfelden%3C%2Fh2%3E%0A%0A%0A%0A%3Cp%3EIn%20v
 ielen%20Ecken%20unseres%20Landkreises%20ist%20es%20eigentlich%20schon%20v
 ermessen%20von%20%C3%96PNV%20zu%20reden.%20Wenn%20der%20Bus%202%20%E2%80%
 93%203%20mal%26nbsp%3Bam%20Tag%20f%C3%A4hrt%20und%20das%20in%20erster%20L
 inie%2C%20um%20unsere%20Kinder%20zur%20Schule%20zu%20bringen%2C%20dann%20
 reicht%20das%20nicht%20aus%2C%20um%20einen%20Beitrag%20zur%20Mobilit%C3%A
 4tswende%20zu%20leisten.%20Aber%20gerade%20im%20Mobilit%C3%A4tssektor%20h
 aben%20wir%20noch%20so%20viel%20Potential%2C%20unseren%20%C3%B6kologische
 n%20Fu%C3%9Fabdruck%20zu%20verbessern.%20Vor%20allem%20im%20l%C3%A4ndlich
 en%20Raum%20brauchen%20wir%20einen%3Cstrong%3E%20z%C3%BCgigen%20Ausbau%20
 des%20Angebotes%20im%20%C3%96PNV%3C%2Fstrong%3E%3Cstrong%3E.%3C%2Fstrong%
 3E%20Dazu%20geh%C3%B6ren%20mehr%20Busverbindungen%2C%20dichtere%20Taktung
 %20und%20zuverl%C3%A4ssige%20Anbindung%20an%20den%20Schienenverkehr.%3C%2
 Fp%3E%0A%0A%0A%0A%3Cp%3EDer%20Weg%20von%20entlegeneren%20Ortsteilen%20zu%
 20den%20Einkaufsm%C3%B6glichkeiten%20und%20den%20Schienenverkehr%20ist%20
 gerade%20f%C3%BCr%20Senior%2Ainnen%20in%20Oberaudorf%20und%20Kiefersfelde
 n%20ein%20Problem.%20Au%C3%9Ferdem%20sind%20die%20Stra%C3%9Fen%20aufgrund
 %20des%20Einkaufsverkehr%20regelm%C3%A4%C3%9Fig%20%C3%BCberlastet.%3C%2Fp
 %3E%0A%0A%0A%0A%3Cp%3EWie%20wird%20die%20Mobilit%C3%A4tswende%20bei%20uns
 %20in%20der%20Grenzregion%20zum%20Erfolg%3F%3C%2Fp%3E%0A%0A%0A%0A%3Cp%3ED
 as%20m%C3%B6chten%20wir%20mit%20Ihnen%2C%20unserer%20Landtagskandidatin%2
 0Martina%20Thalmayr%20und%20Michael%20Sasse%2C%20Kandidat%20f%C3%BCr%20de
 n%20Bezirk%2C%20diskutieren.%3C%2Fp%3E%0A":Stammtisch OV Kiefersfelden\n\
 nIn vielen Ecken unseres Landkreises ist es eigentlich schon vermessen vo
 n ÖPNV zu reden. Wenn der Bus 2 – 3 mal am Tag fährt und das in erst
 er Linie\, um unsere Kinder zur Schule zu bringen\, dann reicht das nicht
  aus\, um einen Beitrag zur Mobilitätswende zu leisten. Aber gerade im M
 obilitätssektor haben wir noch so viel Potential\, unseren ökologischen
  Fußabdruck zu verbessern. Vor allem im ländlichen Raum brauchen wir ei
 nen zügigen Ausbau des Angebotes im ÖPNV. Dazu gehören mehr Busverbind
 ungen\, dichtere Taktung und zuverlässige Anbindung an den Schienenverke
 hr.\n\nDer Weg von entlegeneren Ortsteilen zu den Einkaufsmöglichkeiten 
 und den Schienenverkehr ist gerade für Senior*innen in Oberaudorf und Ki
 efersfelden ein Problem. Außerdem sind die Straßen aufgrund des Einkauf
 sverkehr regelmäßig überlastet.\n\nWie wird die Mobilitätswende bei u
 ns in der Grenzregion zum Erfolg?\n\nDas möchten wir mit Ihnen\, unserer
  Landtagskandidatin Martina Thalmayr und Michael Sasse\, Kandidat für de
 n Bezirk\, diskutieren.
CLASS:PUBLIC
DTSTART;TZID=Europe/Berlin:20230515T190000
DTEND;TZID=Europe/Berlin:20230515T200000
DTSTAMP:20260424T014804
END:VEVENT
END:VCALENDAR