BEGIN:VCALENDAR
VERSION:2.0
PRODID:gruene-rosenheim.de
METHOD:PUBLISH
BEGIN:VTIMEZONE
TZID:Europe/Berlin
X-LIC-LOCATION:Europe/Berlin
BEGIN:DAYLIGHT
TZOFFSETFROM:+0100
TZOFFSETTO:+0200
TZNAME:CEST
DTSTART:19700329T020000
RRULE:FREQ=YEARLY;INTERVAL=1;BYDAY=-1SU;BYMONTH=3
END:DAYLIGHT
BEGIN:STANDARD
TZOFFSETFROM:+0200
TZOFFSETTO:+0100
TZNAME:CET
DTSTART:19701025T030000
RRULE:FREQ=YEARLY;INTERVAL=1;BYDAY=-1SU;BYMONTH=10
END:STANDARD
END:VTIMEZONE
BEGIN:VEVENT
UID:8a68d727687ea64ed181df3e9e1a0bf2@gruene-rosenheim.de
URL;VALUE=URI:https://gruene-rosenheim.de/termine/kundgebung-lichtermeehr
 -fuer-demokratie/
LOCATION:Marienplatz, Bad Aibling
SUMMARY:Kundgebung: Lichterme(e)hr für Demokratie
DESCRIPTION;ALTREP="data:text/html,%0A%3Cp%3EBad%20Aibling%20setzt%20ein%
 20Zeichen%20f%C3%BCr%20Demokratie%2C%20Vielfalt%20und%20Toleranz.%3C%2Fp%
 3E%0A":Bad Aibling setzt ein Zeichen für Demokratie\, Vielfalt und Toler
 anz.
CLASS:PUBLIC
DTSTART;TZID=Europe/Berlin:20240225T180000
DTEND;TZID=Europe/Berlin:20240225T190000
DTSTAMP:20260424T154159
END:VEVENT
END:VCALENDAR