BEGIN:VCALENDAR
VERSION:2.0
PRODID:gruene-rosenheim.de
METHOD:PUBLISH
BEGIN:VTIMEZONE
TZID:Europe/Berlin
X-LIC-LOCATION:Europe/Berlin
BEGIN:DAYLIGHT
TZOFFSETFROM:+0100
TZOFFSETTO:+0200
TZNAME:CEST
DTSTART:19700329T020000
RRULE:FREQ=YEARLY;INTERVAL=1;BYDAY=-1SU;BYMONTH=3
END:DAYLIGHT
BEGIN:STANDARD
TZOFFSETFROM:+0200
TZOFFSETTO:+0100
TZNAME:CET
DTSTART:19701025T030000
RRULE:FREQ=YEARLY;INTERVAL=1;BYDAY=-1SU;BYMONTH=10
END:STANDARD
END:VTIMEZONE
BEGIN:VEVENT
UID:dc35119e565ddc25343fb8f805039f74@gruene-rosenheim.de
URL;VALUE=URI:https://gruene-rosenheim.de/termine/kultur-talk/
LOCATION:Ehemaliger Unverpackt Laden, Rosenheimerstr. 4, 83043 Bad Aiblin
 g
SUMMARY:Kultur Talk
DESCRIPTION;ALTREP="data:text/html,%0A%3Ch2%20class%3D%22wp-block-heading
 %22%3EFrauen%20in%20der%20Kunst%20-%20und%20warum%20Kunst%20im%20Krieg%20
 so%20wichtig%20ist%3C%2Fh2%3E%0A%0A%0A%0A%3Cp%3EAleksandra%20Klitina%20le
 bt%20und%20arbeitet%20in%20Kiew%20%E2%80%93%20als%20K%C3%BCnstlerin%20und
 %20Politik%20Journalistin%20steht%20sie%20im%20st%C3%A4ndigen%20Spannungs
 feld%20zwischen%20%E2%80%9Asachlicher%E2%80%98%20Berichterstattung%20und%
 20ihren%20Emotionen.%20Ihre%20Erfahrung%20mit%20Sexismus%20und%20Korrupti
 on%20w%C3%A4hrend%20ihrer%20Zeit%20als%20Regierungsmitarbeiterin%20h%C3%A
 4lt%20sie%20auch%20in%20ihrem%20eben%20erschienen%20Buch%20fest.%3Cbr%3ES
 usann%20Kurz%2C%20MdL%20Martina%20Thalmayr%2C%20Landtagskandidatin%20f%C3
 %BCr%20Rosenheim%20und%20Vorsitzende%20des%20Kunstverein%20Bad%20Aibling%
 20e.V.%20und%20Irene%20Durukan%2C%20Vorsitzende%20Mut%20%26amp%3B%20Coura
 ge%20Bad%20Aibling%20e.V.%20wollen%20gemeinsam%20mit%20Aleksandra%20Kliti
 na%20%C3%BCber%20Kunst%20in%20Kriegszeiten%20sprechen.%3C%2Fp%3E%0A%0A%0A
 %0A%3Cp%3EDer%20Abend%20wird%20musikalisch%20umrahmt%20von%20Christina%20
 Ullmann%2C%20alias%20BIENE.%3Cbr%3EJonas%20Turber%2C%20Bezirkstagskandida
 t%20f%C3%BCr%20Rosenheim%20wird%20moderieren%20und%20%C3%BCbersetzten.%3C
 br%3EDer%20Eintritt%20ist%20frei.%20Und%20was%20geh%C3%B6rt%20noch%20zu%2
 0einem%20gelungenem%20Abend%3F%20Snacks%20und%20Getr%C3%A4nke%20%E2%80%93
 %20und%20die%20gibt%20es%20nat%C3%BCrlich%20auch.%3Cbr%3E%3Cbr%3EWir%20fr
 euen%20uns%20auf%20einen%20spannenden%20Abend.%3C%2Fp%3E%0A%0A%0A%0A%3Cp%
 3E%3Cbr%3E%3Ca%20href%3D%22https%3A%2F%2Fwww.sanne-kurz.de%2F%22%3E%3Cstr
 ong%3ESanne%20Kurz%3C%2Fstrong%3E%2C%3C%2Fa%3E%20MdL%2C%20Sprecherin%20Ku
 lturpolitik%20%26amp%3B%20Film%3Cbr%3E%3Cstrong%3E%3Ca%20href%3D%22https%
 3A%2F%2Fmartina-thalmayr.de%22%3EMartina%20Thalmayr%3C%2Fa%3E%3C%2Fstrong
 %3E%2C%20Landtagskandidatin%20und%20Sprecherin%20KV%20Rosenheim%3Cbr%3E%3
 Cstrong%3E%3Ca%20href%3D%22https%3A%2F%2Fklitina.art%2F%22%3EAleksandra%2
 0Klitina%3C%2Fa%3E%3C%2Fstrong%3E%2C%20K%C3%BCnstlerin%20und%20Politik%20
 Journalistin%20aus%20Kiew%3Cbr%3E%3Cstrong%3EIrene%20Durukan%3C%2Fstrong%
 3E%2C%20Vorsitzende%20%3Ca%20rel%3D%22noreferrer%20noopener%22%20href%3D%
 22https%3A%2F%2Fmuttutgut.org%2F%22%20target%3D%22_blank%22%3EMut%20%26am
 p%3B%20Courage%20e.V.%3C%2Fa%3E%3Cbr%3E%3Cem%3EModeration%20und%20%C3%9Cb
 ersetzung%3A%20%3Cstrong%3E%3Ca%20href%3D%22https%3A%2F%2Fgruene-rosenhei
 m-bezirk.de%2F%22%3EJonas%20Turber%3C%2Fa%3E%2C%20%3C%2Fstrong%3EBezirkst
 agskandidat%3C%2Fem%3E%3C%2Fp%3E%0A%0A%0A%0A%3Cp%3EMusik%3A%20%3Cstrong%3
 EBIENE%20%3C%2Fstrong%3Ealias%20Christina%20Ullmann%20wird%20den%20Abend%
 20begleiten.%20%3Cbr%3EF%C3%BCr%20Getr%C3%A4nke%20und%20Snacks%20ist%20ge
 sorgt.%20%3Cbr%3EEintritt%20frei.%20%3C%2Fp%3E%0A":Frauen in der Kunst - 
 und warum Kunst im Krieg so wichtig ist\n\nAleksandra Klitina lebt und ar
 beitet in Kiew – als Künstlerin und Politik Journalistin steht sie im 
 ständigen Spannungsfeld zwischen ‚sachlicher‘ Berichterstattung und 
 ihren Emotionen. Ihre Erfahrung mit Sexismus und Korruption während ihre
 r Zeit als Regierungsmitarbeiterin hält sie auch in ihrem eben erschiene
 n Buch fest.Susann Kurz\, MdL Martina Thalmayr\, Landtagskandidatin für 
 Rosenheim und Vorsitzende des Kunstverein Bad Aibling e.V. und Irene Duru
 kan\, Vorsitzende Mut & Courage Bad Aibling e.V. wollen gemeinsam mit Ale
 ksandra Klitina über Kunst in Kriegszeiten sprechen.\n\nDer Abend wird m
 usikalisch umrahmt von Christina Ullmann\, alias BIENE.Jonas Turber\, Bez
 irkstagskandidat für Rosenheim wird moderieren und übersetzten.Der Eint
 ritt ist frei. Und was gehört noch zu einem gelungenem Abend? Snacks und
  Getränke – und die gibt es natürlich auch.Wir freuen uns auf einen s
 pannenden Abend.\n\nSanne Kurz\, MdL\, Sprecherin Kulturpolitik & FilmMar
 tina Thalmayr\, Landtagskandidatin und Sprecherin KV RosenheimAleksandra 
 Klitina\, Künstlerin und Politik Journalistin aus KiewIrene Durukan\, Vo
 rsitzende Mut & Courage e.V.Moderation und Übersetzung: Jonas Turber\, B
 ezirkstagskandidat\n\nMusik: BIENE alias Christina Ullmann wird den Abend
  begleiten. Für Getränke und Snacks ist gesorgt. Eintritt frei.
CLASS:PUBLIC
DTSTART;TZID=Europe/Berlin:20230508T200000
DTEND;TZID=Europe/Berlin:20230508T210000
DTSTAMP:20260425T124157
END:VEVENT
END:VCALENDAR