BEGIN:VCALENDAR
VERSION:2.0
PRODID:gruene-rosenheim.de
METHOD:PUBLISH
BEGIN:VTIMEZONE
TZID:Europe/Berlin
X-LIC-LOCATION:Europe/Berlin
BEGIN:DAYLIGHT
TZOFFSETFROM:+0100
TZOFFSETTO:+0200
TZNAME:CEST
DTSTART:19700329T020000
RRULE:FREQ=YEARLY;INTERVAL=1;BYDAY=-1SU;BYMONTH=3
END:DAYLIGHT
BEGIN:STANDARD
TZOFFSETFROM:+0200
TZOFFSETTO:+0100
TZNAME:CET
DTSTART:19701025T030000
RRULE:FREQ=YEARLY;INTERVAL=1;BYDAY=-1SU;BYMONTH=10
END:STANDARD
END:VTIMEZONE
BEGIN:VEVENT
UID:a3fe89c97c3efd8aca8be9431522c4a1@gruene-rosenheim.de
URL;VALUE=URI:https://gruene-rosenheim.de/termine/jahreshauptversammlung-
 und-aufstellungsversammlung/
LOCATION:Stellwerk 18, Eduard-Rüber-Str. 7, Rosenheim
SUMMARY:Jahreshauptversammlung und Aufstellungsversammlung
DESCRIPTION;ALTREP="data:text/html,%0A%3Cp%3EJahrshauptversammlung%20des%
 20Kreisverbandes%20Rosenheim%20Stadt%20und%20Land%20mit%20Vorstandswahlen
 %20und%20Aufstellungsversammlung%20eine%2Ar%20Kandidat%2Ain%20zur%20Bunde
 stagswahl%202025%20f%C3%BCr%20den%20Stimmkreis%20Rosenheim.%3C%2Fp%3E%0A"
 :Jahrshauptversammlung des Kreisverbandes Rosenheim Stadt und Land mit Vo
 rstandswahlen und Aufstellungsversammlung eine*r Kandidat*in zur Bundesta
 gswahl 2025 für den Stimmkreis Rosenheim.
CLASS:PUBLIC
DTSTART;TZID=Europe/Berlin:20241113T190000
DTEND;TZID=Europe/Berlin:20241113T230000
DTSTAMP:20260423T022149
END:VEVENT
END:VCALENDAR