BEGIN:VCALENDAR
VERSION:2.0
PRODID:gruene-rosenheim.de
METHOD:PUBLISH
BEGIN:VTIMEZONE
TZID:Europe/Berlin
X-LIC-LOCATION:Europe/Berlin
BEGIN:DAYLIGHT
TZOFFSETFROM:+0100
TZOFFSETTO:+0200
TZNAME:CEST
DTSTART:19700329T020000
RRULE:FREQ=YEARLY;INTERVAL=1;BYDAY=-1SU;BYMONTH=3
END:DAYLIGHT
BEGIN:STANDARD
TZOFFSETFROM:+0200
TZOFFSETTO:+0100
TZNAME:CET
DTSTART:19701025T030000
RRULE:FREQ=YEARLY;INTERVAL=1;BYDAY=-1SU;BYMONTH=10
END:STANDARD
END:VTIMEZONE
BEGIN:VEVENT
UID:a532cc096b5c824e337fcd932dd70741@gruene-rosenheim.de
URL;VALUE=URI:https://gruene-rosenheim.de/termine/erinnerungsarbeit-zur-g
 eschichte-des-nationalsozialismus-im-chiemgau/
LOCATION:Prientalhalle, Schützenstr. 16, Aschau
SUMMARY:Erinnerungsarbeit zur Geschichte des Nationalsozialismus im Chiem
 gau
DESCRIPTION;ALTREP="data:text/html,%0A%3Cp%3E%C3%96ffentlicher%20Workshop
 %20des%20Geschichtsvereins%20Aschau%20zur%20Geschichte%20des%20Nationalso
 zialismus%20im%20Chiemgau.%20Schirmherrin%20ist%20unsere%20Betreuungsabge
 ordnete%20%3Ca%20href%3D%22https%3A%2F%2Fclaudia-koehler-bayern.de%2F%22%
 3EClaudia%20K%C3%B6hler%20%28MdL%29%3C%2Fa%3E.%3C%2Fp%3E%0A%0A%0A%0A%3Cdi
 v%20class%3D%22wp-block-buttons%20is-layout-flex%20wp-block-buttons-is-la
 yout-flex%22%3E%0A%3Cdiv%20class%3D%22wp-block-button%22%20id%3D%22Erinne
 rungsarbeit-zur-Geschichte-des-Nationalsozialismus-im-Chiemgau-und-in-Tir
 ol%22%3E%3Ca%20class%3D%22wp-block-button__link%20wp-element-button%22%20
 href%3D%22http%3A%2F%2FErinnerungsarbeit%20zur%20Geschichte%20des%20Natio
 nalsozialismus%20im%20Chiemgau%20und%20in%20Tirol%22%20rel%3D%22Erinnerun
 gsarbeit%20zur%20Geschichte%20des%20Nationalsozialismus%20im%20Chiemgau%2
 0und%20in%20Tirol%22%3EZum%20Programm%3C%2Fa%3E%3C%2Fdiv%3E%0A%3C%2Fdiv%3
 E%0A":Öffentlicher Workshop des Geschichtsvereins Aschau zur Geschichte 
 des Nationalsozialismus im Chiemgau. Schirmherrin ist unsere Betreuungsab
 geordnete Claudia Köhler (MdL).\n\nZum Programm
CLASS:PUBLIC
DTSTART;TZID=Europe/Berlin:20240914T103000
DTEND;TZID=Europe/Berlin:20240914T173000
DTSTAMP:20260423T061203
END:VEVENT
END:VCALENDAR